Workbook

Sheet Core Group Programme
G2: Title of project:
B4: Core Group Programme | G4: Expected start date (MM-YYYY) | L4: Date of revision: MM-YYY)
B5: Revised budget - Please use the same budget categories as used in the last approved budget. | G5: Expected end date (MM-YYYY)
E7: Last approved budget | J7: Revised Budget | AI7: ="6th calendar year: " & IF($I$4="","202X", YEAR($I$4)+5) -> 6th calendar year: 202X | AN7: {="7th calendar year: " & _xlfn.IFS(ISBLANK($I$4), "202X",MONTH($I$4)=1,"N/A",$I$4 ="","202X", TRUE,YEAR($I$4)+6)} -> 7th calendar year: 202X
E8: From Velux Fonden | G8: Co-financing | J8: From Velux Fonden | L8: Co-financing | O8: From Velux Fonden | Q8: Co-financing | T8: From Velux Fonden | V8: Co-financing | Y8: From Velux Fonden | AA8: Co-financing | AD8: From Velux Fonden | AF8: Co-financing | AI8: From Velux Fonden | AK8: Co-financing | AN8: From Velux Fonden | AP8: Co-financing
B9: Salary - VIP A | C9: Position | E9: Months | F9: DKK | G9: Months | H9: DKK | J9: Months | K9: DKK | L9: Months | M9: DKK | O9: Months | P9: DKK | Q9: Months | R9: DKK | T9: Months | U9: DKK | V9: Months | W9: DKK | Y9: Months | Z9: DKK | AA9: Months | AB9: DKK | AD9: Months | AE9: DKK | AF9: Months | AG9: DKK | AI9: Months | AJ9: DKK | AK9: Months | AL9: DKK | AN9: Months | AO9: DKK | AP9: Months | AQ9: DKK
B10: Insert name
B16: Salary - VIP B | C16: Position
B27: Salary - VIP C | C27: Position
B34: Salary - TAP | C34: Position
B41: Operating expenses
B42: Running expenses*
B43: Travel*
B44: Equipment
B45: PhD education rates | P45: =SUMIF($C:$C,"PhD student",O:O)/12*'VIP categories'!$B$10+SUMIF($C:$C,"PhD student (4+4)",O:O)*(3/4)/12*'VIP categories'!$B$10+SUMIF($C:$C,"PhD student (3+5)",O:O)*(3/5)/12*'VIP categories'!$B$10 -> 0 | R45: =SUMIF($C:$C,"PhD student",Q:Q)/12*'VIP categories'!$B$10+SUMIF($C:$C,"PhD student (4+4)",Q:Q)*(3/4)/12*'VIP categories'!$B$10+SUMIF($C:$C,"PhD student (3+5)",Q:Q)*(3/5)/12*'VIP categories'!$B$10 -> 0 | U45: =SUMIF($C:$C,"PhD student",T:T)/12*'VIP categories'!$B$10+SUMIF($C:$C,"PhD student (4+4)",T:T)*(3/4)/12*'VIP categories'!$B$10+SUMIF($C:$C,"PhD student (3+5)",T:T)*(3/5)/12*'VIP categories'!$B$10 -> 0 | W45: =SUMIF($C:$C,"PhD student",V:V)/12*'VIP categories'!$B$10+SUMIF($C:$C,"PhD student (4+4)",V:V)*(3/4)/12*'VIP categories'!$B$10+SUMIF($C:$C,"PhD student (3+5)",V:V)*(3/5)/12*'VIP categories'!$B$10 -> 0 | Z45: =SUMIF($C:$C,"PhD student",Y:Y)/12*'VIP categories'!$B$10+SUMIF($C:$C,"PhD student (4+4)",Y:Y)*(3/4)/12*'VIP categories'!$B$10+SUMIF($C:$C,"PhD student (3+5)",Y:Y)*(3/5)/12*'VIP categories'!$B$10 -> 0 | AB45: =SUMIF($C:$C,"PhD student",AA:AA)/12*'VIP categories'!$B$10+SUMIF($C:$C,"PhD student (4+4)",AA:AA)*(3/4)/12*'VIP categories'!$B$10+SUMIF($C:$C,"PhD student (3+5)",AA:AA)*(3/5)/12*'VIP categories'!$B$10 -> 0 | AE45: =SUMIF($C:$C,"PhD student",AD:AD)/12*'VIP categories'!$B$10+SUMIF($C:$C,"PhD student (4+4)",AD:AD)*(3/4)/12*'VIP categories'!$B$10+SUMIF($C:$C,"PhD student (3+5)",AD:AD)*(3/5)/12*'VIP categories'!$B$10 -> 0 | AG45: =SUMIF($C:$C,"PhD student",AF:AF)/12*'VIP categories'!$B$10+SUMIF($C:$C,"PhD student (4+4)",AF:AF)*(3/4)/12*'VIP categories'!$B$10+SUMIF($C:$C,"PhD student (3+5)",AF:AF)*(3/5)/12*'VIP categories'!$B$10 -> 0 | AJ45: =SUMIF($C:$C,"PhD student",AI:AI)/12*'VIP categories'!$B$10 -> 0 | AL45: =SUMIF($C:$C,"PhD student",AK:AK)/12*'VIP categories'!$B$10 -> 0 | AO45: =SUMIF($C:$C,"PhD student",AN:AN)/12*'VIP categories'!$B$10 -> 0 | AQ45: =SUMIF($C:$C,"PhD student",AP:AP)/12*'VIP categories'!$B$10 -> 0
B47: Project supplement** | O47: {=SUMIF($C:$C,"PhD student",O:O)+SUMIF($C:$C,"PhD student (4+4)",O:O)*(3/4)+SUMIF($C:$C,"PhD student (3+5)",O:O)*(3/5)+SUMIF($C:$C,"Postdoc",O:O)+SUM(SUMIF($C:$C,'VIP categories'!$C$2:$C$5,O:O))} -> 0 | P47: =O47/12*'VIP categories'!$B$11 -> 0 | T47: {=SUMIF($C:$C,"PhD student",T:T)+SUMIF($C:$C,"PhD student (4+4)",T:T)*(3/4)+SUMIF($C:$C,"PhD student (3+5)",T:T)*(3/5)+SUMIF($C:$C,"Postdoc",T:T)+SUM(SUMIF($C:$C,'VIP categories'!$C$2:$C$5,T:T))} -> 0 | U47: =T47/12*'VIP categories'!$B$11 -> 0 | Y47: {=SUMIF($C:$C,"PhD student",Y:Y)+SUMIF($C:$C,"PhD student (4+4)",Y:Y)*(3/4)+SUMIF($C:$C,"PhD student (3+5)",Y:Y)*(3/5)+SUMIF($C:$C,"Postdoc",Y:Y)+SUM(SUMIF($C:$C,'VIP categories'!$C$2:$C$5,Y:Y))} -> 0 | Z47: =Y47/12*'VIP categories'!$B$11 -> 0 | AD47: {=SUMIF($C:$C,"PhD student",AD:AD)+SUMIF($C:$C,"PhD student (4+4)",AD:AD)*(3/4)+SUMIF($C:$C,"PhD student (3+5)",AD:AD)*(3/5)+SUMIF($C:$C,"Postdoc",AD:AD)+SUM(SUMIF($C:$C,'VIP categories'!$C$2:$C$5,AD:AD))} -> 0 | AE47: =AD47/12*'VIP categories'!$B$11 -> 0 | AI47: {=SUM(SUMIF($C:$C,'VIP categories'!$B$2:$B$3,AI:AI))+SUM(SUMIF($C:$C,'VIP categories'!$C$2:$C$3,AI:AI))} -> 0 | AJ47: =AI47/12*'VIP categories'!$B$11 -> 0 | AN47: {=SUM(SUMIF($C:$C,'VIP categories'!$B$2:$B$3,AN:AN))+SUM(SUMIF($C:$C,'VIP categories'!$C$2:$C$3,AN:AN))} -> 0 | AO47: =AN47/12*'VIP categories'!$B$11 -> 0
B49: Total | F49: =SUM(F10:F15,F17:F26,F28:F33,F35:F40,F42:F45,F47) -> 0 | K49: =SUM(K10:K15,K17:K26,K28:K33,K35:K40,K42:K45,K47) -> 0 | M49: =SUM(M10:M15,M17:M26,M28:M33,M35:M40,M42:M44,) -> 0 | AJ49: =SUM(AJ10:AJ15,AJ17:AJ26,AJ28:AJ33,AJ35:AJ40,AJ42:AJ45,AJ47) -> 0 | AL49: =SUM(AL10:AL15,AL17:AL26,AL28:AL33,AL35:AL40,AL42:AL45,AL47) -> 0 | AO49: =SUM(AO17:AO26,AO28:AO33,AO35:AO40,AO42:AO45,AO47) -> 0 | AQ49: =SUM(AQ10:AQ15,AQ17:AQ26,AQ28:AQ33,AQ35:AQ40,AQ42:AQ45,AQ47) -> 0
B52: Please specify buy out to research: | E52: %
B54: ** The granted project supplement and the PhD education rates are not adjusted after allocation, regardless of changes to the VIP B and C categories.
B55: Therefore, please state the same amount for project supplement and PhD education rates as in the original granted budget.
B58: * Running expenses: | F58: *Travel:
B59: Please specify (Use <ALT>+<ENTER> for line break. Please check that all text in the box is visible before generating the PDF)) | J59: Please specify | R59: Please specify | Z59: Please specify
B75: (Please specify) | F75: (Please specify)
B85: *Equipment: | F85: *Additional comments (optional):
B86: (Please specify) | F86: (Please specify)

Sheet Budget template user guide
A1: Budget template – user guide The budget template is created based on the agreement between Danish Universities (DU) and a number of private foundations regarding a joint model for the financing of research projects. See the detailed guidelines on the DU website. https://dkuni.dk/aftale-om-en-faelles-model-for-finansiering-af-forskningsprojekter/ The template automatically calculates project supplement and PhD education rates based on the entered months and according to the agreement. Please note that: 1. Months are FTE (full time equivalents). Example: A part-time employee (30 hours/week) is employed for 12 calendar months in a given year. This translates into 9.73 months (FTE). 2. The PhD education rate is 50,000 DKK per year for a 3-year full-time PhD student. For a PhD student on a 4+4 flexible scheme this corresponds to 37,500 DKK per year. For a PhD student on a 3+5 scheme this corresponds to 30,000 DKK per year. 3. The project supplement is 200,000 DKK per year (FTE) for eligible job categories. For a PhD student on a 4+4 scheme this corresponds to 150,000 DKK per year. For a PhD student on a 3+5 scheme this corresponds to 120,000 per year.

Sheet VIP categories
A1: VIP A | B1: VIP B | C1: VIP C
A2: Professor | B2: PhD student | C2: Research Assistant
A3: Associate Professor (Lektor) | B3: PhD student (4+4)
A4: Assistant Professor (Adjunkt) | B4: PhD student (3+5)
A5: Senior Researcher | B5: Postdoc
A6: Researcher
A7: A - Other
A10: PhD education rate (Dry) | B10: 50000
A11: Project supplement (Dry) | B11: 200000
